View In:
ArcGIS JavaScript
ArcGIS Online Map Viewer
ArcGIS Earth
ArcMap
View Footprint In:
ArcGIS Online Map Viewer
Service Description: Banas_tif
Name: Banas_tif
Description:
Single Fused Map Cache: false
Extent:
XMin: 73.38714667426218
YMin: 24.308333333333355
XMax: 76.98750000000003
YMax: 27.266666666666694
Spatial Reference: 4326
(4326)
Initial Extent:
XMin: 73.38714667426218
YMin: 24.308333333333355
XMax: 76.98750000000003
YMax: 27.266666666666694
Spatial Reference: 4326
(4326)
Full Extent:
XMin: 73.38714667426218
YMin: 24.308333333333355
XMax: 76.98750000000003
YMax: 27.266666666666694
Spatial Reference: 4326
(4326)
Pixel Size X: 2.7776217603285314E-4
Pixel Size Y: 2.777777777777783E-4
Band Count: 1
Pixel Type: F32
RasterFunction Infos: {"rasterFunctionInfos": [{
"name": "None",
"description": "",
"help": ""
}]}
Mensuration Capabilities: Basic
Has Histograms: true
Has Colormap: false
Has Multi Dimensions : false
Rendering Rule:
Min Scale: 0
Max Scale: 0
Copyright Text:
Service Data Type: esriImageServiceDataTypeGeneric
Min Values: 182
Max Values: 1313.2600097656
Mean Values: 410.835388071
Standard Deviation Values: 124.3595438113
Object ID Field:
Fields:
None
Default Mosaic Method: Center
Allowed Mosaic Methods:
SortField:
SortValue: null
Mosaic Operator: First
Default Compression Quality: 75
Default Resampling Method: Bilinear
Max Record Count: null
Max Image Height: 4100
Max Image Width: 15000
Max Download Image Count: null
Max Mosaic Image Count: null
Allow Raster Function: true
Allow Copy: true
Allow Analysis: true
Allow Compute TiePoints: false
Supports Statistics: false
Supports Advanced Queries: false
Use StandardizedQueries: true
Raster Type Infos:
Name: Raster Dataset
Description: Supports all ArcGIS Raster Datasets
Help:
Has Raster Attribute Table: false
Edit Fields Info: null
Ownership Based AccessControl For Rasters: null
Child Resources:
Info
Histograms
Statistics
Key Properties
Legend
Raster Function Infos
Supported Operations:
Export Image
Identify
Measure
Compute Histograms
Compute Statistics Histograms
Get Samples
Compute Class Statistics
Query Boundary
Compute Pixel Location
Compute Angles
Validate
Project