{
 "currentVersion": 10.91,
 "serviceDescription": "Betwa_tif",
 "name": "Betwa_tif",
 "description": "",
 "extent": {
  "xmin": 77.10000000000004,
  "ymin": 22.875000000000025,
  "xmax": 80.24640062120228,
  "ymax": 26.0291666666667,
  "spatialReference": {
   "wkid": 4326,
   "latestWkid": 4326
  }
 },
 "initialExtent": {
  "xmin": 77.10000000000004,
  "ymin": 22.875000000000025,
  "xmax": 80.24640062120228,
  "ymax": 26.0291666666667,
  "spatialReference": {
   "wkid": 4326,
   "latestWkid": 4326
  }
 },
 "fullExtent": {
  "xmin": 77.10000000000004,
  "ymin": 22.875000000000025,
  "xmax": 80.24640062120228,
  "ymax": 26.0291666666667,
  "spatialReference": {
   "wkid": 4326,
   "latestWkid": 4326
  }
 },
 "hasMultidimensions": false,
 "pixelSizeX": 2.7775429212590453E-4,
 "pixelSizeY": 2.777777777777786E-4,
 "datasetFormat": "TIFF",
 "uncompressedSize": 514517760,
 "blockWidth": 128,
 "blockHeight": 128,
 "compressionType": "LZW",
 "bandNames": [
  "Band_1"
 ],
 "allowCopy": true,
 "allowAnalysis": true,
 "bandCount": 1,
 "noDataValue": 3.3999999521443642E38,
 "noDataValues": [
  3.3999999521443642E38
 ],
 "pixelType": "F32",
 "minPixelSize": 0,
 "maxPixelSize": 0,
 "copyrightText": "",
 "serviceDataType": "esriImageServiceDataTypeGeneric",
 "serviceSourceType": "esriImageServiceSourceTypeDataset",
 "minValues": [
  87
 ],
 "maxValues": [
  714.60998535156
 ],
 "meanValues": [
  360.81530183668
 ],
 "stdvValues": [
  121.34324373491
 ],
 "objectIdField": "",
 "fields": [],
 "capabilities": "Image,Metadata,Mensuration",
 "defaultMosaicMethod": "Center",
 "allowedMosaicMethods": "",
 "sortField": "",
 "sortValue": null,
 "sortAscending": true,
 "mosaicOperator": "First",
 "defaultCompressionQuality": 75,
 "defaultResamplingMethod": "Bilinear",
 "maxImageHeight": 4100,
 "maxImageWidth": 15000,
 "allowRasterFunction": true,
 "rasterFunctionInfos": [
  {
   "name": "None",
   "description": "",
   "help": ""
  }
 ],
 "rasterTypeInfos": [
  {
   "name": "Raster Dataset",
   "description": "Supports all ArcGIS Raster Datasets",
   "help": ""
  }
 ],
 "mensurationCapabilities": "Basic",
 "hasHistograms": true,
 "hasColormap": false,
 "hasRasterAttributeTable": false,
 "minScale": 0,
 "maxScale": 0,
 "exportTilesAllowed": false,
 "supportsStatistics": false,
 "supportsAdvancedQueries": false,
 "editFieldsInfo": null,
 "ownershipBasedAccessControlForRasters": null,
 "allowComputeTiePoints": false,
 "useStandardizedQueries": true,
 "advancedQueryCapabilities": {
  "useStandardizedQueries": true,
  "supportsStatistics": false,
  "supportsOrderBy": false,
  "supportsDistinct": false,
  "supportsPagination": false
 },
 "spatialReference": {
  "wkid": 4326,
  "latestWkid": 4326
 }
}
