View In:
ArcGIS JavaScript
ArcGIS Online Map Viewer
ArcGIS Earth
ArcMap
View Footprint In:
ArcGIS Online Map Viewer
Service Description: MPSWIC/IMD_2014_crf
Name: MPSWIC/IMD_2014_crf
Description:
Single Fused Map Cache: false
Extent:
XMin: 69.99986111111112
YMin: 20.000138888888888
XMax: 83.09077020202022
YMax: 28.000138888888895
Spatial Reference: 4326
(4326)
Initial Extent:
XMin: 69.99986111111112
YMin: 20.000138888888888
XMax: 83.09077020202022
YMax: 28.000138888888895
Spatial Reference: 4326
(4326)
Full Extent:
XMin: 69.99986111111112
YMin: 20.000138888888888
XMax: 83.09077020202022
YMax: 28.000138888888895
Spatial Reference: 4326
(4326)
Time Info:
Start Time Field: StdTime
End Time Field: StdTime
Time Extent:
[2014/01/01 00:00:00 UTC, 2014/12/31 00:00:00 UTC]
Time Reference:
N/A
Pixel Size X: 0.24242424242424274
Pixel Size Y: 0.24242424242424265
Band Count: 1
Pixel Type: F64
RasterFunction Infos: {"rasterFunctionInfos": [{
"name": "None",
"description": "",
"help": ""
}]}
Mensuration Capabilities: Basic
Has Histograms: true
Has Colormap: false
Has Multi Dimensions : true
Rendering Rule:
Min Scale: 0
Max Scale: 0
Copyright Text:
Service Data Type: esriImageServiceDataTypeScientific
Min Values: 0
Max Values: 346.1226806640625
Mean Values: 2.058383178486754
Standard Deviation Values: 9.484685684196172
Object ID Field:
Fields:
None
Default Mosaic Method: Center
Allowed Mosaic Methods:
SortField:
SortValue: null
Mosaic Operator: First
Default Compression Quality: 75
Default Resampling Method: Bilinear
Max Record Count: null
Max Image Height: 4100
Max Image Width: 15000
Max Download Image Count: null
Max Mosaic Image Count: null
Allow Raster Function: true
Allow Copy: true
Allow Analysis: true
Allow Compute TiePoints: false
Supports Statistics: false
Supports Advanced Queries: false
Use StandardizedQueries: true
Raster Type Infos:
Name: Raster Dataset
Description: Supports all ArcGIS Raster Datasets
Help:
Has Raster Attribute Table: false
Edit Fields Info: null
Ownership Based AccessControl For Rasters: null
Child Resources:
Info
Histograms
Statistics
Key Properties
Legend
Raster Function Infos
Multidimensional Info
Slices
Supported Operations:
Export Image
Identify
Measure
Compute Histograms
Compute Statistics Histograms
Get Samples
Compute Class Statistics
Query Boundary
Compute Pixel Location
Compute Angles
Validate
Project