View In:
ArcGIS JavaScript
ArcGIS Online Map Viewer
ArcGIS Earth
ArcMap
View Footprint In:
ArcGIS Online Map Viewer
Service Description: MPSWIC/MP_DEM
Name: MPSWIC/MP_DEM
Description:
Single Fused Map Cache: false
Extent:
XMin: 69.99986111111112
YMin: 20.000138888888888
XMax: 89.99986111111113
YMax: 30.000138888888895
Spatial Reference: 4326
(4326)
Initial Extent:
XMin: 69.99986111111112
YMin: 20.000138888888888
XMax: 89.99986111111113
YMax: 30.000138888888895
Spatial Reference: 4326
(4326)
Full Extent:
XMin: 69.99986111111112
YMin: 20.000138888888888
XMax: 89.99986111111113
YMax: 30.000138888888895
Spatial Reference: 4326
(4326)
Pixel Size X: 2.77777777777778E-4
Pixel Size Y: 2.77777777777778E-4
Band Count: 1
Pixel Type: F32
RasterFunction Infos: {"rasterFunctionInfos": [{
"name": "None",
"description": "",
"help": ""
}]}
Mensuration Capabilities: Basic
Has Histograms: true
Has Colormap: false
Has Multi Dimensions : false
Rendering Rule:
Min Scale: 0
Max Scale: 0
Copyright Text:
Service Data Type: esriImageServiceDataTypeGeneric
Min Values: 0
Max Values: 8736.740234375
Mean Values: 673.56089888989
Standard Deviation Values: 1302.3592548025
Object ID Field:
Fields:
None
Default Mosaic Method: Center
Allowed Mosaic Methods:
SortField:
SortValue: null
Mosaic Operator: First
Default Compression Quality: 75
Default Resampling Method: Bilinear
Max Record Count: null
Max Image Height: 4100
Max Image Width: 15000
Max Download Image Count: null
Max Mosaic Image Count: null
Allow Raster Function: true
Allow Copy: true
Allow Analysis: true
Allow Compute TiePoints: false
Supports Statistics: false
Supports Advanced Queries: false
Use StandardizedQueries: true
Raster Type Infos:
Name: Raster Dataset
Description: Supports all ArcGIS Raster Datasets
Help:
Has Raster Attribute Table: false
Edit Fields Info: null
Ownership Based AccessControl For Rasters: null
Child Resources:
Info
Histograms
Statistics
Key Properties
Legend
Raster Function Infos
Supported Operations:
Export Image
Identify
Measure
Compute Histograms
Compute Statistics Histograms
Get Samples
Compute Class Statistics
Query Boundary
Compute Pixel Location
Compute Angles
Validate
Project