View In:
ArcGIS JavaScript
ArcGIS Online Map Viewer
ArcGIS Earth
ArcMap
View Footprint In:
ArcGIS Online Map Viewer
Service Description: MPSWIC/Narmada_DEM
Name: MPSWIC/Narmada_DEM
Description:
Single Fused Map Cache: false
Extent:
XMin: -348313.9961937482
YMin: 2364573.1326269726
XMax: 579546.6251489811
YMax: 2653397.8307667538
Spatial Reference: 32644
(32644)
Initial Extent:
XMin: -348313.9961937482
YMin: 2364573.1326269726
XMax: 579546.6251489811
YMax: 2653397.8307667538
Spatial Reference: 32644
(32644)
Full Extent:
XMin: -348313.9961937482
YMin: 2364573.1326269726
XMax: 579546.6251489811
YMax: 2653397.8307667538
Spatial Reference: 32644
(32644)
Pixel Size X: 31.113292916059596
Pixel Size Y: 31.113292916059585
Band Count: 1
Pixel Type: F32
RasterFunction Infos: {"rasterFunctionInfos": [{
"name": "None",
"description": "",
"help": ""
}]}
Mensuration Capabilities: Basic
Has Histograms: true
Has Colormap: false
Has Multi Dimensions : false
Rendering Rule:
Min Scale: 0
Max Scale: 0
Copyright Text:
Service Data Type: esriImageServiceDataTypeGeneric
Min Values: 1.5
Max Values: 1325.0083007812
Mean Values: 412.03562797967
Standard Deviation Values: 187.85683515294
Object ID Field:
Fields:
None
Default Mosaic Method: Center
Allowed Mosaic Methods:
SortField:
SortValue: null
Mosaic Operator: First
Default Compression Quality: 75
Default Resampling Method: Bilinear
Max Record Count: null
Max Image Height: 4100
Max Image Width: 15000
Max Download Image Count: null
Max Mosaic Image Count: null
Allow Raster Function: true
Allow Copy: true
Allow Analysis: true
Allow Compute TiePoints: false
Supports Statistics: false
Supports Advanced Queries: false
Use StandardizedQueries: true
Raster Type Infos:
Name: Raster Dataset
Description: Supports all ArcGIS Raster Datasets
Help:
Has Raster Attribute Table: false
Edit Fields Info: null
Ownership Based AccessControl For Rasters: null
Child Resources:
Info
Histograms
Statistics
Key Properties
Legend
Raster Function Infos
Supported Operations:
Export Image
Identify
Measure
Compute Histograms
Compute Statistics Histograms
Get Samples
Compute Class Statistics
Query Boundary
Compute Pixel Location
Compute Angles
Validate
Project