{
 "currentVersion": 10.91,
 "serviceDescription": "MPSWIC/Narmada_DEM",
 "name": "MPSWIC/Narmada_DEM",
 "description": "",
 "extent": {
  "xmin": -348313.9961937482,
  "ymin": 2364573.1326269726,
  "xmax": 579546.6251489811,
  "ymax": 2653397.8307667538,
  "spatialReference": {
   "wkid": 32644,
   "latestWkid": 32644
  }
 },
 "initialExtent": {
  "xmin": -348313.9961937482,
  "ymin": 2364573.1326269726,
  "xmax": 579546.6251489811,
  "ymax": 2653397.8307667538,
  "spatialReference": {
   "wkid": 32644,
   "latestWkid": 32644
  }
 },
 "fullExtent": {
  "xmin": -348313.9961937482,
  "ymin": 2364573.1326269726,
  "xmax": 579546.6251489811,
  "ymax": 2653397.8307667538,
  "spatialReference": {
   "wkid": 32644,
   "latestWkid": 32644
  }
 },
 "hasMultidimensions": false,
 "pixelSizeX": 31.113292916059596,
 "pixelSizeY": 31.113292916059585,
 "datasetFormat": "TIFF",
 "uncompressedSize": 1107350504,
 "blockWidth": 128,
 "blockHeight": 128,
 "compressionType": "None",
 "bandNames": [
  "Band_1"
 ],
 "allowCopy": true,
 "allowAnalysis": true,
 "bandCount": 1,
 "noDataValue": 3.3999999521443642E38,
 "noDataValues": [
  3.3999999521443642E38
 ],
 "pixelType": "F32",
 "minPixelSize": 0,
 "maxPixelSize": 0,
 "copyrightText": "",
 "serviceDataType": "esriImageServiceDataTypeGeneric",
 "serviceSourceType": "esriImageServiceSourceTypeDataset",
 "minValues": [
  1.5
 ],
 "maxValues": [
  1325.0083007812
 ],
 "meanValues": [
  412.03562797967
 ],
 "stdvValues": [
  187.85683515294
 ],
 "objectIdField": "",
 "fields": [],
 "capabilities": "Image,Metadata,Pixels,Mensuration",
 "defaultMosaicMethod": "Center",
 "allowedMosaicMethods": "",
 "sortField": "",
 "sortValue": null,
 "sortAscending": true,
 "mosaicOperator": "First",
 "defaultCompressionQuality": 75,
 "defaultResamplingMethod": "Bilinear",
 "maxImageHeight": 4100,
 "maxImageWidth": 15000,
 "allowRasterFunction": true,
 "rasterFunctionInfos": [
  {
   "name": "None",
   "description": "",
   "help": ""
  }
 ],
 "rasterTypeInfos": [
  {
   "name": "Raster Dataset",
   "description": "Supports all ArcGIS Raster Datasets",
   "help": ""
  }
 ],
 "mensurationCapabilities": "Basic",
 "hasHistograms": true,
 "hasColormap": false,
 "hasRasterAttributeTable": false,
 "minScale": 0,
 "maxScale": 0,
 "exportTilesAllowed": false,
 "supportsStatistics": false,
 "supportsAdvancedQueries": false,
 "editFieldsInfo": null,
 "ownershipBasedAccessControlForRasters": null,
 "allowComputeTiePoints": false,
 "useStandardizedQueries": true,
 "advancedQueryCapabilities": {
  "useStandardizedQueries": true,
  "supportsStatistics": false,
  "supportsOrderBy": false,
  "supportsDistinct": false,
  "supportsPagination": false
 },
 "spatialReference": {
  "wkid": 32644,
  "latestWkid": 32644
 }
}
