View In:
ArcGIS JavaScript
ArcGIS Online Map Viewer
ArcGIS Earth
ArcMap
View Footprint In:
ArcGIS Online Map Viewer
Service Description: MPSWIC/Sindh_DEM
Name: MPSWIC/Sindh_DEM
Description:
Single Fused Map Cache: false
Extent:
XMin: 77.18310445149746
YMin: 24.020833333333428
XMax: 79.22140062120229
YMax: 26.796100870768385
Spatial Reference: 4326
(4326)
Initial Extent:
XMin: 77.18310445149746
YMin: 24.020833333333428
XMax: 79.22140062120229
YMax: 26.796100870768385
Spatial Reference: 4326
(4326)
Full Extent:
XMin: 77.18310445149746
YMin: 24.020833333333428
XMax: 79.22140062120229
YMax: 26.796100870768385
Spatial Reference: 4326
(4326)
Pixel Size X: 2.777727132331474E-4
Pixel Size Y: 2.777767528210346E-4
Band Count: 1
Pixel Type: F32
RasterFunction Infos: {"rasterFunctionInfos": [{
"name": "None",
"description": "",
"help": ""
}]}
Mensuration Capabilities: Basic
Has Histograms: true
Has Colormap: false
Has Multi Dimensions : false
Rendering Rule:
Min Scale: 0
Max Scale: 0
Copyright Text:
Service Data Type: esriImageServiceDataTypeGeneric
Min Values: 106.5
Max Values: 569.02001953125
Mean Values: 281.32503819135
Standard Deviation Values: 121.29931830172
Object ID Field:
Fields:
None
Default Mosaic Method: Center
Allowed Mosaic Methods:
SortField:
SortValue: null
Mosaic Operator: First
Default Compression Quality: 75
Default Resampling Method: Bilinear
Max Record Count: null
Max Image Height: 4100
Max Image Width: 15000
Max Download Image Count: null
Max Mosaic Image Count: null
Allow Raster Function: true
Allow Copy: true
Allow Analysis: true
Allow Compute TiePoints: false
Supports Statistics: false
Supports Advanced Queries: false
Use StandardizedQueries: true
Raster Type Infos:
Name: Raster Dataset
Description: Supports all ArcGIS Raster Datasets
Help:
Has Raster Attribute Table: false
Edit Fields Info: null
Ownership Based AccessControl For Rasters: null
Child Resources:
Info
Histograms
Statistics
Key Properties
Legend
Raster Function Infos
Supported Operations:
Export Image
Identify
Measure
Compute Histograms
Compute Statistics Histograms
Get Samples
Compute Class Statistics
Query Boundary
Compute Pixel Location
Compute Angles
Validate
Project