View In:
ArcGIS JavaScript
ArcGIS Online Map Viewer
ArcGIS Earth
ArcMap
View Footprint In:
ArcGIS Online Map Viewer
Service Description: MPSWIC/Ken_DEM
Name: MPSWIC/Ken_DEM
Description:
Single Fused Map Cache: false
Extent:
XMin: 78.5119327121311
YMin: 23.13795979817711
XMax: 80.62916666666669
YMax: 25.88333333333337
Spatial Reference: 4326
(4326)
Initial Extent:
XMin: 78.5119327121311
YMin: 23.13795979817711
XMax: 80.62916666666669
YMax: 25.88333333333337
Spatial Reference: 4326
(4326)
Full Extent:
XMin: 78.5119327121311
YMin: 23.13795979817711
XMax: 80.62916666666669
YMax: 25.88333333333337
Spatial Reference: 4326
(4326)
Pixel Size X: 2.7774287741513744E-4
Pixel Size Y: 2.777593621161734E-4
Band Count: 1
Pixel Type: F32
RasterFunction Infos: {"rasterFunctionInfos": [{
"name": "None",
"description": "",
"help": ""
}]}
Mensuration Capabilities: Basic
Has Histograms: true
Has Colormap: false
Has Multi Dimensions : false
Rendering Rule:
Min Scale: 0
Max Scale: 0
Copyright Text:
Service Data Type: esriImageServiceDataTypeGeneric
Min Values: 84.5
Max Values: 739.66998291016
Mean Values: 341.24300493517
Standard Deviation Values: 125.98944362754
Object ID Field:
Fields:
None
Default Mosaic Method: Center
Allowed Mosaic Methods:
SortField:
SortValue: null
Mosaic Operator: First
Default Compression Quality: 100
Default Resampling Method: Bilinear
Max Record Count: null
Max Image Height: 4100
Max Image Width: 15000
Max Download Image Count: null
Max Mosaic Image Count: null
Allow Raster Function: true
Allow Copy: true
Allow Analysis: true
Allow Compute TiePoints: false
Supports Statistics: false
Supports Advanced Queries: false
Use StandardizedQueries: true
Raster Type Infos:
Name: Raster Dataset
Description: Supports all ArcGIS Raster Datasets
Help:
Has Raster Attribute Table: false
Edit Fields Info: null
Ownership Based AccessControl For Rasters: null
Child Resources:
Info
Histograms
Statistics
Key Properties
Legend
Raster Function Infos
Supported Operations:
Export Image
Identify
Measure
Compute Histograms
Compute Statistics Histograms
Get Samples
Compute Class Statistics
Query Boundary
Compute Pixel Location
Compute Angles
Validate
Project