View In:
ArcGIS JavaScript
ArcGIS Online Map Viewer
ArcGIS Earth
ArcMap
View Footprint In:
ArcGIS Online Map Viewer
Service Description: MPSWIC/Mahi_DEM
Name: MPSWIC/Mahi_DEM
Description:
Single Fused Map Cache: false
Extent:
XMin: 73.3163133409289
YMin: 22.504166666666833
XMax: 75.28333333333342
YMax: 24.595833333333474
Spatial Reference: 4326
(4326)
Initial Extent:
XMin: 73.3163133409289
YMin: 22.504166666666833
XMax: 75.28333333333342
YMax: 24.595833333333474
Spatial Reference: 4326
(4326)
Full Extent:
XMin: 73.3163133409289
YMin: 22.504166666666833
XMax: 75.28333333333342
YMax: 24.595833333333474
Spatial Reference: 4326
(4326)
Pixel Size X: 2.777492223107196E-4
Pixel Size Y: 2.7777777777777425E-4
Band Count: 1
Pixel Type: F32
RasterFunction Infos: {"rasterFunctionInfos": [{
"name": "None",
"description": "",
"help": ""
}]}
Mensuration Capabilities: Basic
Has Histograms: true
Has Colormap: false
Has Multi Dimensions : false
Rendering Rule:
Min Scale: 0
Max Scale: 0
Copyright Text:
Service Data Type: esriImageServiceDataTypeGeneric
Min Values: 68.5
Max Values: 1010.4899902344
Mean Values: 364.72949239437
Standard Deviation Values: 115.92116808119
Object ID Field:
Fields:
None
Default Mosaic Method: Center
Allowed Mosaic Methods:
SortField:
SortValue: null
Mosaic Operator: First
Default Compression Quality: 75
Default Resampling Method: Bilinear
Max Record Count: null
Max Image Height: 4100
Max Image Width: 15000
Max Download Image Count: null
Max Mosaic Image Count: null
Allow Raster Function: true
Allow Copy: true
Allow Analysis: true
Allow Compute TiePoints: false
Supports Statistics: false
Supports Advanced Queries: false
Use StandardizedQueries: true
Raster Type Infos:
Name: Raster Dataset
Description: Supports all ArcGIS Raster Datasets
Help:
Has Raster Attribute Table: false
Edit Fields Info: null
Ownership Based AccessControl For Rasters: null
Child Resources:
Info
Histograms
Statistics
Key Properties
Legend
Raster Function Infos
Supported Operations:
Export Image
Identify
Measure
Compute Histograms
Compute Statistics Histograms
Get Samples
Compute Class Statistics
Query Boundary
Compute Pixel Location
Compute Angles
Validate
Project