View In:
ArcGIS JavaScript
ArcGIS Online Map Viewer
ArcGIS Earth
ArcMap
View Footprint In:
ArcGIS Online Map Viewer
Service Description: MPSWIC/TAPI_DEM_1
Name: MPSWIC/TAPI_DEM_1
Description:
Single Fused Map Cache: false
Extent:
XMin: 72.67026604546459
YMin: 20.566666666666833
XMax: 78.27083333333343
YMax: 22.017019992404528
Spatial Reference: 4326
(4326)
Initial Extent:
XMin: 72.67026604546459
YMin: 20.566666666666833
XMax: 78.27083333333343
YMax: 22.017019992404528
Spatial Reference: 4326
(4326)
Full Extent:
XMin: 72.67026604546459
YMin: 20.566666666666833
XMax: 78.27083333333343
YMax: 22.017019992404528
Spatial Reference: 4326
(4326)
Pixel Size X: 2.777645830416526E-4
Pixel Size Y: 2.7773905127110194E-4
Band Count: 1
Pixel Type: F32
RasterFunction Infos: {"rasterFunctionInfos": [{
"name": "None",
"description": "",
"help": ""
}]}
Mensuration Capabilities: Basic
Has Histograms: true
Has Colormap: false
Has Multi Dimensions : false
Rendering Rule:
Min Scale: 0
Max Scale: 0
Copyright Text:
Service Data Type: esriImageServiceDataTypeGeneric
Min Values: 0
Max Values: 1273.9499511719
Mean Values: 345.3796377363
Standard Deviation Values: 197.55494370018
Object ID Field:
Fields:
None
Default Mosaic Method: Center
Allowed Mosaic Methods:
SortField:
SortValue: null
Mosaic Operator: First
Default Compression Quality: 75
Default Resampling Method: Bilinear
Max Record Count: null
Max Image Height: 4100
Max Image Width: 15000
Max Download Image Count: null
Max Mosaic Image Count: null
Allow Raster Function: true
Allow Copy: true
Allow Analysis: true
Allow Compute TiePoints: false
Supports Statistics: false
Supports Advanced Queries: false
Use StandardizedQueries: true
Raster Type Infos:
Name: Raster Dataset
Description: Supports all ArcGIS Raster Datasets
Help:
Has Raster Attribute Table: false
Edit Fields Info: null
Ownership Based AccessControl For Rasters: null
Child Resources:
Info
Histograms
Statistics
Key Properties
Legend
Raster Function Infos
Supported Operations:
Export Image
Identify
Measure
Compute Histograms
Compute Statistics Histograms
Get Samples
Compute Class Statistics
Query Boundary
Compute Pixel Location
Compute Angles
Validate
Project