View In:
ArcGIS JavaScript
ArcGIS Online Map Viewer
ArcGIS Earth
ArcMap
View Footprint In:
ArcGIS Online Map Viewer
Service Description: Betwa_tif
Name: Betwa_tif
Description:
Single Fused Map Cache: false
Extent:
XMin: 77.10000000000004
YMin: 22.875000000000025
XMax: 80.24640062120228
YMax: 26.0291666666667
Spatial Reference: 4326
(4326)
Initial Extent:
XMin: 77.10000000000004
YMin: 22.875000000000025
XMax: 80.24640062120228
YMax: 26.0291666666667
Spatial Reference: 4326
(4326)
Full Extent:
XMin: 77.10000000000004
YMin: 22.875000000000025
XMax: 80.24640062120228
YMax: 26.0291666666667
Spatial Reference: 4326
(4326)
Pixel Size X: 2.7775429212590453E-4
Pixel Size Y: 2.777777777777786E-4
Band Count: 1
Pixel Type: F32
RasterFunction Infos: {"rasterFunctionInfos": [{
"name": "None",
"description": "",
"help": ""
}]}
Mensuration Capabilities: Basic
Has Histograms: true
Has Colormap: false
Has Multi Dimensions : false
Rendering Rule:
Min Scale: 0
Max Scale: 0
Copyright Text:
Service Data Type: esriImageServiceDataTypeGeneric
Min Values: 87
Max Values: 714.60998535156
Mean Values: 360.81530183668
Standard Deviation Values: 121.34324373491
Object ID Field:
Fields:
None
Default Mosaic Method: Center
Allowed Mosaic Methods:
SortField:
SortValue: null
Mosaic Operator: First
Default Compression Quality: 75
Default Resampling Method: Bilinear
Max Record Count: null
Max Image Height: 4100
Max Image Width: 15000
Max Download Image Count: null
Max Mosaic Image Count: null
Allow Raster Function: true
Allow Copy: true
Allow Analysis: true
Allow Compute TiePoints: false
Supports Statistics: false
Supports Advanced Queries: false
Use StandardizedQueries: true
Raster Type Infos:
Name: Raster Dataset
Description: Supports all ArcGIS Raster Datasets
Help:
Has Raster Attribute Table: false
Edit Fields Info: null
Ownership Based AccessControl For Rasters: null
Child Resources:
Info
Histograms
Statistics
Key Properties
Legend
Raster Function Infos
Supported Operations:
Export Image
Identify
Measure
Compute Histograms
Compute Statistics Histograms
Get Samples
Compute Class Statistics
Query Boundary
Compute Pixel Location
Compute Angles
Validate
Project